BEGIN:VCALENDAR
VERSION:2.0
PRODID:icalendar-ruby
CALSCALE:GREGORIAN
METHOD:PUBLISH
BEGIN:VEVENT
DTSTAMP:20260425T124442Z
UID:593-1994014@stsbc.org
DTSTART:20260714T000000Z
DTEND:20260718T030000Z
CLASS:PUBLIC
CREATED:20260417T102316
DESCRIPTION:
LAST-MODIFIED:20260417T102316
LOCATION:
SUMMARY:Vacation Bible School
URL;VALUE=URI:https://www.stsbc.org/events/vacation-bible-school--593/2026-
 07-13
ATTACH;FILENAME=vbs (8).jpg;FMTTYPE=image/jpeg:https://dq5pwpg1q8ru0.cloudf
 ront.net/2026/04/17/17/23/16/664b8923-07b3-49c6-90a4-f0addd85d147/vbs%20(8
 ).jpg
END:VEVENT
END:VCALENDAR
