BEGIN:VCALENDAR
VERSION:2.0
PRODID:icalendar-ruby
CALSCALE:GREGORIAN
METHOD:PUBLISH
BEGIN:VEVENT
DTSTAMP:20260425T125831Z
UID:592-2014169@stsbc.org
DTSTART:20260614T150000Z
DTEND:20260614T193000Z
CLASS:PUBLIC
CREATED:20260421T151316
DESCRIPTION:
LAST-MODIFIED:20260421T151316
LOCATION:
SUMMARY:Children's Day
URL;VALUE=URI:https://www.stsbc.org/events/childrens-day--592/2026-06-14
ATTACH;FILENAME=Childrens Day Logo.jpeg;FMTTYPE=image/jpeg:https://dq5pwpg1
 q8ru0.cloudfront.net/2026/04/17/17/04/38/256de81d-e352-4c17-9e70-1c7cb229f
 2c8/Childrens%20Day%20Logo.jpeg
END:VEVENT
END:VCALENDAR
