BEGIN:VCALENDAR
VERSION:2.0
PRODID:icalendar-ruby
CALSCALE:GREGORIAN
METHOD:PUBLISH
BEGIN:VEVENT
DTSTAMP:20260421T212511Z
UID:10-2013685@stsbc.org
DTSTART:20260811T180000Z
DTEND:20260811T190000Z
CLASS:PUBLIC
CREATED:20260421T140512
DESCRIPTION:
LAST-MODIFIED:20260421T140512
LOCATION:
SUMMARY:Arts & Crafts
URL;VALUE=URI:https://www.stsbc.org/events/arts-crafts/2026-08-11
ATTACH;FILENAME=Arts Crafts Ministry icon.jpg;FMTTYPE=image/jpeg:https://dq
 5pwpg1q8ru0.cloudfront.net/2024/03/20/20/01/36/d99313cd-e63f-4e82-a226-cf2
 fe4f629e3/Arts%20Crafts%20Ministry%20icon.jpg
END:VEVENT
END:VCALENDAR
